BEGIN:VCALENDAR
VERSION:2.0
PRODID:-//Dura-ID Solutions - ECPv6.15.20//NONSGML v1.0//EN
CALSCALE:GREGORIAN
METHOD:PUBLISH
X-WR-CALNAME:Dura-ID Solutions
X-ORIGINAL-URL:https://dura-id.com
X-WR-CALDESC:Events for Dura-ID Solutions
REFRESH-INTERVAL;VALUE=DURATION:PT1H
X-Robots-Tag:noindex
X-PUBLISHED-TTL:PT1H
BEGIN:VTIMEZONE
TZID:Europe/London
BEGIN:DAYLIGHT
TZOFFSETFROM:+0000
TZOFFSETTO:+0100
TZNAME:BST
DTSTART:20250330T010000
END:DAYLIGHT
BEGIN:STANDARD
TZOFFSETFROM:+0100
TZOFFSETTO:+0000
TZNAME:GMT
DTSTART:20251026T010000
END:STANDARD
BEGIN:DAYLIGHT
TZOFFSETFROM:+0000
TZOFFSETTO:+0100
TZNAME:BST
DTSTART:20260329T010000
END:DAYLIGHT
BEGIN:STANDARD
TZOFFSETFROM:+0100
TZOFFSETTO:+0000
TZNAME:GMT
DTSTART:20261025T010000
END:STANDARD
BEGIN:DAYLIGHT
TZOFFSETFROM:+0000
TZOFFSETTO:+0100
TZNAME:BST
DTSTART:20270328T010000
END:DAYLIGHT
BEGIN:STANDARD
TZOFFSETFROM:+0100
TZOFFSETTO:+0000
TZNAME:GMT
DTSTART:20271031T010000
END:STANDARD
END:VTIMEZONE
BEGIN:VEVENT
DTSTART;VALUE=DATE:20260520
DTEND;VALUE=DATE:20260522
DTSTAMP:20260420T124508
CREATED:20250924T132320Z
LAST-MODIFIED:20250924T132320Z
UID:27233-1779235200-1779407999@dura-id.com
SUMMARY:ChemUK
DESCRIPTION:
URL:https://dura-id.com/event/chemuk-2026/
LOCATION:NEC\, Birmingham\, Pendigo Way\, Marston Green\, Birmingham\, B40 1NT\, United Kingdom
CATEGORIES:Chemical
END:VEVENT
BEGIN:VEVENT
DTSTART;VALUE=DATE:20260617
DTEND;VALUE=DATE:20260619
DTSTAMP:20260420T124508
CREATED:20250924T133438Z
LAST-MODIFIED:20250924T133438Z
UID:27235-1781654400-1781827199@dura-id.com
SUMMARY:National Plant Show
DESCRIPTION:
URL:https://dura-id.com/event/national-plant-show-2026/
LOCATION:NAEC\, Stoneleigh\, Kenilworth\, CV8 2LZ\, United Kingdom
ORGANIZER;CN="Horticultural Trades Assosiation":MAILTO:services@hta.org.uk
END:VEVENT
BEGIN:VEVENT
DTSTART;VALUE=DATE:20260901
DTEND;VALUE=DATE:20260903
DTSTAMP:20260420T124508
CREATED:20250924T134657Z
LAST-MODIFIED:20250924T134657Z
UID:27239-1788220800-1788393599@dura-id.com
SUMMARY:Four Oaks Trade Show
DESCRIPTION:
URL:https://dura-id.com/event/four-oaks-trade-show-2026/
LOCATION:Four Oaks Nurseries\, Farm Ln\, Lower Withington\, Macclesfield\, SK11 9DU\, United Kingdom
CATEGORIES:Horticulture
END:VEVENT
BEGIN:VEVENT
DTSTART;VALUE=DATE:20261104
DTEND;VALUE=DATE:20261106
DTSTAMP:20260420T124508
CREATED:20250924T135038Z
LAST-MODIFIED:20250924T135038Z
UID:27243-1793750400-1793923199@dura-id.com
SUMMARY:UK Metals Expo
DESCRIPTION:
URL:https://dura-id.com/event/uk-metals-expo-2026/
LOCATION:NEC\, Birmingham\, Pendigo Way\, Marston Green\, Birmingham\, B40 1NT\, United Kingdom
CATEGORIES:Metals
END:VEVENT
BEGIN:VEVENT
DTSTART;VALUE=DATE:20261110
DTEND;VALUE=DATE:20261112
DTSTAMP:20260420T124508
CREATED:20250924T141348Z
LAST-MODIFIED:20250924T141348Z
UID:27245-1794268800-1794441599@dura-id.com
SUMMARY:UK Packaging Expo
DESCRIPTION:
URL:https://dura-id.com/event/uk-packaging-expo-26/
LOCATION:Exhibition Centre Liverpool\, King's Dock\, Port of Liverpool\, Liverpool\, L3 4FP\, United Kingdom
CATEGORIES:Applicators,Chemical,Food
END:VEVENT
END:VCALENDAR